BEGIN:VCALENDAR
VERSION:2.0
PRODID:-//Ball-trap de Rambouillet (78) - ECPv6.15.20//NONSGML v1.0//EN
CALSCALE:GREGORIAN
METHOD:PUBLISH
X-ORIGINAL-URL:https://balltraprbt.fr
X-WR-CALDESC:Évènements pour Ball-trap de Rambouillet (78)
REFRESH-INTERVAL;VALUE=DURATION:PT1H
X-Robots-Tag:noindex
X-PUBLISHED-TTL:PT1H
BEGIN:VTIMEZONE
TZID:Europe/Paris
BEGIN:DAYLIGHT
TZOFFSETFROM:+0100
TZOFFSETTO:+0200
TZNAME:CEST
DTSTART:20250330T010000
END:DAYLIGHT
BEGIN:STANDARD
TZOFFSETFROM:+0200
TZOFFSETTO:+0100
TZNAME:CET
DTSTART:20251026T010000
END:STANDARD
BEGIN:DAYLIGHT
TZOFFSETFROM:+0100
TZOFFSETTO:+0200
TZNAME:CEST
DTSTART:20260329T010000
END:DAYLIGHT
BEGIN:STANDARD
TZOFFSETFROM:+0200
TZOFFSETTO:+0100
TZNAME:CET
DTSTART:20261025T010000
END:STANDARD
BEGIN:DAYLIGHT
TZOFFSETFROM:+0100
TZOFFSETTO:+0200
TZNAME:CEST
DTSTART:20270328T010000
END:DAYLIGHT
BEGIN:STANDARD
TZOFFSETFROM:+0200
TZOFFSETTO:+0100
TZNAME:CET
DTSTART:20271031T010000
END:STANDARD
END:VTIMEZONE
BEGIN:VEVENT
DTSTART;TZID=Europe/Paris:20260627T090000
DTEND;TZID=Europe/Paris:20260627T120000
DTSTAMP:20260420T132932
CREATED:20260408T160044Z
LAST-MODIFIED:20260408T160100Z
UID:38213-1782550800-1782561600@balltraprbt.fr
SUMMARY:Stand réservé
DESCRIPTION:
URL:https://balltraprbt.fr/evenement/38213/
END:VEVENT
BEGIN:VEVENT
DTSTART;TZID=Europe/Paris:20260704T090000
DTEND;TZID=Europe/Paris:20260704T120000
DTSTAMP:20260420T132932
CREATED:20260408T160128Z
LAST-MODIFIED:20260408T160128Z
UID:38216-1783155600-1783166400@balltraprbt.fr
SUMMARY:Stand réservé
DESCRIPTION:
URL:https://balltraprbt.fr/evenement/stand-reserve-8/
END:VEVENT
BEGIN:VEVENT
DTSTART;TZID=Europe/Paris:20260716T080000
DTEND;TZID=Europe/Paris:20260719T170000
DTSTAMP:20260420T132932
CREATED:20260414T170604Z
LAST-MODIFIED:20260414T170604Z
UID:38245-1784188800-1784480400@balltraprbt.fr
SUMMARY:PC Championnat du Monde
DESCRIPTION:Vale das Pedras Vale das Pedras\, Portugal
URL:https://balltraprbt.fr/evenement/pc-championnat-du-monde/
END:VEVENT
BEGIN:VEVENT
DTSTART;TZID=Europe/Paris:20260807T080000
DTEND;TZID=Europe/Paris:20260809T170000
DTSTAMP:20260420T132932
CREATED:20260414T170655Z
LAST-MODIFIED:20260414T170655Z
UID:38247-1786089600-1786294800@balltraprbt.fr
SUMMARY:CS Championnat de France
DESCRIPTION:Ball-Trap Club 02 Crepy Crepy\, HDF
URL:https://balltraprbt.fr/evenement/cs-championnat-de-france/
END:VEVENT
BEGIN:VEVENT
DTSTART;TZID=Europe/Paris:20260819T080000
DTEND;TZID=Europe/Paris:20260823T170000
DTSTAMP:20260420T132932
CREATED:20260414T170746Z
LAST-MODIFIED:20260414T170746Z
UID:38249-1787126400-1787504400@balltraprbt.fr
SUMMARY:CS Championnat du Monde
DESCRIPTION:TAV San Martino Rio Salso-Case Bernardi\, Italie
URL:https://balltraprbt.fr/evenement/cs-championnat-du-monde/
END:VEVENT
BEGIN:VEVENT
DTSTART;TZID=Europe/Paris:20260905T000000
DTEND;TZID=Europe/Paris:20260905T235959
DTSTAMP:20260420T132932
CREATED:20260408T160445Z
LAST-MODIFIED:20260408T160445Z
UID:38218-1788566400-1788652799@balltraprbt.fr
SUMMARY:Fête du club
DESCRIPTION:
URL:https://balltraprbt.fr/evenement/fete-du-club/
END:VEVENT
BEGIN:VEVENT
DTSTART;TZID=Europe/Paris:20260905T080000
DTEND;TZID=Europe/Paris:20260906T170000
DTSTAMP:20260420T132932
CREATED:20260414T170904Z
LAST-MODIFIED:20260414T170904Z
UID:38251-1788595200-1788714000@balltraprbt.fr
SUMMARY:PC Open de France de Cal. 20 et petits cal.
DESCRIPTION:Vendôme Shooting Sargé-sur-Braye\, CVL
URL:https://balltraprbt.fr/evenement/pc-open-de-france-de-cal-20-et-petits-cal/
END:VEVENT
BEGIN:VEVENT
DTSTART;TZID=Europe/Paris:20261024T080000
DTEND;TZID=Europe/Paris:20261024T170000
DTSTAMP:20260420T132932
CREATED:20260408T160514Z
LAST-MODIFIED:20260408T160514Z
UID:38220-1792828800-1792861200@balltraprbt.fr
SUMMARY:Stand réservé
DESCRIPTION:
URL:https://balltraprbt.fr/evenement/stand-reserve-9/
END:VEVENT
BEGIN:VEVENT
DTSTART;TZID=Europe/Paris:20261219T090000
DTEND;TZID=Europe/Paris:20261219T140000
DTSTAMP:20260420T132932
CREATED:20260410T094033Z
LAST-MODIFIED:20260410T094056Z
UID:38224-1797670800-1797688800@balltraprbt.fr
SUMMARY:Matinée de tirs
DESCRIPTION:
URL:https://balltraprbt.fr/evenement/stand-reserve-10/
END:VEVENT
END:VCALENDAR