BEGIN:VCALENDAR
VERSION:2.0
PRODID:-//Ball-trap de Rambouillet (78) - ECPv6.15.20//NONSGML v1.0//EN
CALSCALE:GREGORIAN
METHOD:PUBLISH
X-WR-CALNAME:Ball-trap de Rambouillet (78)
X-ORIGINAL-URL:https://balltraprbt.fr
X-WR-CALDESC:Évènements pour Ball-trap de Rambouillet (78)
REFRESH-INTERVAL;VALUE=DURATION:PT1H
X-Robots-Tag:noindex
X-PUBLISHED-TTL:PT1H
BEGIN:VTIMEZONE
TZID:Europe/Paris
BEGIN:DAYLIGHT
TZOFFSETFROM:+0100
TZOFFSETTO:+0200
TZNAME:CEST
DTSTART:20250330T010000
END:DAYLIGHT
BEGIN:STANDARD
TZOFFSETFROM:+0200
TZOFFSETTO:+0100
TZNAME:CET
DTSTART:20251026T010000
END:STANDARD
BEGIN:DAYLIGHT
TZOFFSETFROM:+0100
TZOFFSETTO:+0200
TZNAME:CEST
DTSTART:20260329T010000
END:DAYLIGHT
BEGIN:STANDARD
TZOFFSETFROM:+0200
TZOFFSETTO:+0100
TZNAME:CET
DTSTART:20261025T010000
END:STANDARD
BEGIN:DAYLIGHT
TZOFFSETFROM:+0100
TZOFFSETTO:+0200
TZNAME:CEST
DTSTART:20270328T010000
END:DAYLIGHT
BEGIN:STANDARD
TZOFFSETFROM:+0200
TZOFFSETTO:+0100
TZNAME:CET
DTSTART:20271031T010000
END:STANDARD
END:VTIMEZONE
BEGIN:VEVENT
DTSTART;TZID=Europe/Paris:20260328T180000
DTEND;TZID=Europe/Paris:20260328T193000
DTSTAMP:20260420T121519
CREATED:20260226T182029Z
LAST-MODIFIED:20260226T182238Z
UID:38091-1774720800-1774726200@balltraprbt.fr
SUMMARY:Assemblée Générale (2025)
DESCRIPTION:Uniquement pour les licenciés au BTR en 2025.
URL:https://balltraprbt.fr/evenement/assemblee-generale-2025/
LOCATION:Ball-trap de Rambouillet\, Route du Coupe Gorge\, Rambouillet\, Yvelines\, 78120\, France
ATTACH;FMTTYPE=image/png:https://balltraprbt.fr/wp-content/uploads/2024/05/cropped-cropped-cropped-Ecusson-BTR-2024-sticker-pour-impression-1.png
END:VEVENT
END:VCALENDAR