BEGIN:VCALENDAR
VERSION:2.0
PRODID:-//Ball-trap de Rambouillet (78) - ECPv6.15.20//NONSGML v1.0//EN
CALSCALE:GREGORIAN
METHOD:PUBLISH
X-ORIGINAL-URL:https://balltraprbt.fr
X-WR-CALDESC:Évènements pour Ball-trap de Rambouillet (78)
REFRESH-INTERVAL;VALUE=DURATION:PT1H
X-Robots-Tag:noindex
X-PUBLISHED-TTL:PT1H
BEGIN:VTIMEZONE
TZID:Europe/Paris
BEGIN:DAYLIGHT
TZOFFSETFROM:+0100
TZOFFSETTO:+0200
TZNAME:CEST
DTSTART:20250330T010000
END:DAYLIGHT
BEGIN:STANDARD
TZOFFSETFROM:+0200
TZOFFSETTO:+0100
TZNAME:CET
DTSTART:20251026T010000
END:STANDARD
BEGIN:DAYLIGHT
TZOFFSETFROM:+0100
TZOFFSETTO:+0200
TZNAME:CEST
DTSTART:20260329T010000
END:DAYLIGHT
BEGIN:STANDARD
TZOFFSETFROM:+0200
TZOFFSETTO:+0100
TZNAME:CET
DTSTART:20261025T010000
END:STANDARD
BEGIN:DAYLIGHT
TZOFFSETFROM:+0100
TZOFFSETTO:+0200
TZNAME:CEST
DTSTART:20270328T010000
END:DAYLIGHT
BEGIN:STANDARD
TZOFFSETFROM:+0200
TZOFFSETTO:+0100
TZNAME:CET
DTSTART:20271031T010000
END:STANDARD
END:VTIMEZONE
BEGIN:VEVENT
DTSTART;VALUE=DATE:20260110
DTEND;VALUE=DATE:20260111
DTSTAMP:20260420T152131
CREATED:20251229T153725Z
LAST-MODIFIED:20251229T153808Z
UID:37712-1768003200-1768089599@balltraprbt.fr
SUMMARY:Journée nettoyage 10 janvier 2026
DESCRIPTION:Bonjour \nOn vous attend au BTR pour la journée nettoyage \n 
URL:https://balltraprbt.fr/evenement/journee-nettoyage-10-janvier-2026/
LOCATION:Ball-trap de Rambouillet\, Route du Coupe Gorge\, Rambouillet\, Yvelines\, 78120\, France
ATTACH;FMTTYPE=image/jpeg:https://balltraprbt.fr/wp-content/uploads/2020/01/20200111_143518mise-en-avant-scaled-1.jpg
END:VEVENT
BEGIN:VEVENT
DTSTART;TZID=Europe/Paris:20260131T133000
DTEND;TZID=Europe/Paris:20260131T173000
DTSTAMP:20260420T152131
CREATED:20251230T181754Z
LAST-MODIFIED:20260115T185122Z
UID:37836-1769866200-1769880600@balltraprbt.fr
SUMMARY:Réouverture du stand 31 janvier 2026
DESCRIPTION:Réouverture du stand le  31 janvier 2026.
URL:https://balltraprbt.fr/evenement/ouverture-du-stand-31-janvier-2026/
ATTACH;FMTTYPE=image/jpeg:https://balltraprbt.fr/wp-content/uploads/2021/01/btr03-scaled-1.jpg
END:VEVENT
END:VCALENDAR