BEGIN:VCALENDAR
VERSION:2.0
PRODID:-//Ball-trap de Rambouillet (78) - ECPv6.15.20//NONSGML v1.0//EN
CALSCALE:GREGORIAN
METHOD:PUBLISH
X-ORIGINAL-URL:https://balltraprbt.fr
X-WR-CALDESC:Évènements pour Ball-trap de Rambouillet (78)
REFRESH-INTERVAL;VALUE=DURATION:PT1H
X-Robots-Tag:noindex
X-PUBLISHED-TTL:PT1H
BEGIN:VTIMEZONE
TZID:Europe/Paris
BEGIN:DAYLIGHT
TZOFFSETFROM:+0100
TZOFFSETTO:+0200
TZNAME:CEST
DTSTART:20250330T010000
END:DAYLIGHT
BEGIN:STANDARD
TZOFFSETFROM:+0200
TZOFFSETTO:+0100
TZNAME:CET
DTSTART:20251026T010000
END:STANDARD
BEGIN:DAYLIGHT
TZOFFSETFROM:+0100
TZOFFSETTO:+0200
TZNAME:CEST
DTSTART:20260329T010000
END:DAYLIGHT
BEGIN:STANDARD
TZOFFSETFROM:+0200
TZOFFSETTO:+0100
TZNAME:CET
DTSTART:20261025T010000
END:STANDARD
BEGIN:DAYLIGHT
TZOFFSETFROM:+0100
TZOFFSETTO:+0200
TZNAME:CEST
DTSTART:20270328T010000
END:DAYLIGHT
BEGIN:STANDARD
TZOFFSETFROM:+0200
TZOFFSETTO:+0100
TZNAME:CET
DTSTART:20271031T010000
END:STANDARD
END:VTIMEZONE
BEGIN:VEVENT
DTSTART;TZID=Europe/Paris:20260418T090000
DTEND;TZID=Europe/Paris:20260419T180000
DTSTAMP:20260422T102027
CREATED:20260414T165858Z
LAST-MODIFIED:20260414T165953Z
UID:38229-1776502800-1776621600@balltraprbt.fr
SUMMARY:CS Présélections
DESCRIPTION:New Clays Shooting Sains-Lès-Marquion\, HDF\nASC Ball Trap Chêne Rond Coullons\, CVL\nBTC Biscarrossais Biscarrosse\, N-A
URL:https://balltraprbt.fr/evenement/cs-preselections/
END:VEVENT
BEGIN:VEVENT
DTSTART;TZID=Europe/Paris:20260414T080000
DTEND;TZID=Europe/Paris:20260414T170000
DTSTAMP:20260422T102027
CREATED:20260414T170520Z
LAST-MODIFIED:20260414T170520Z
UID:38243-1776153600-1776186000@balltraprbt.fr
SUMMARY:PC Championnat de France
DESCRIPTION:BTC La Cerisaille Guigneville-sur-Essonne\, IDF
URL:https://balltraprbt.fr/evenement/pc-championnat-de-france/
END:VEVENT
BEGIN:VEVENT
DTSTART;TZID=Europe/Paris:20260414T080000
DTEND;TZID=Europe/Paris:20260414T170000
DTSTAMP:20260422T102027
CREATED:20260414T170322Z
LAST-MODIFIED:20260414T170322Z
UID:38237-1776153600-1776186000@balltraprbt.fr
SUMMARY:CS Championnat d'Europe
DESCRIPTION:Sologne Shooting Club Chaumont S/Taronne\, France
URL:https://balltraprbt.fr/evenement/cs-championnat-deurope/
END:VEVENT
BEGIN:VEVENT
DTSTART;TZID=Europe/Paris:20260411T090000
DTEND;TZID=Europe/Paris:20260411T120000
DTSTAMP:20260422T102027
CREATED:20260408T155445Z
LAST-MODIFIED:20260408T155445Z
UID:38199-1775898000-1775908800@balltraprbt.fr
SUMMARY:Stand réservé
DESCRIPTION:
URL:https://balltraprbt.fr/evenement/stand-reserve/
END:VEVENT
BEGIN:VEVENT
DTSTART;TZID=Europe/Paris:20260328T180000
DTEND;TZID=Europe/Paris:20260328T193000
DTSTAMP:20260422T102027
CREATED:20260226T182029Z
LAST-MODIFIED:20260226T182238Z
UID:38091-1774720800-1774726200@balltraprbt.fr
SUMMARY:Assemblée Générale (2025)
DESCRIPTION:Uniquement pour les licenciés au BTR en 2025.
URL:https://balltraprbt.fr/evenement/assemblee-generale-2025/
LOCATION:Ball-trap de Rambouillet\, Route du Coupe Gorge\, Rambouillet\, Yvelines\, 78120\, France
ATTACH;FMTTYPE=image/png:https://balltraprbt.fr/wp-content/uploads/2024/05/cropped-cropped-cropped-Ecusson-BTR-2024-sticker-pour-impression-1.png
END:VEVENT
BEGIN:VEVENT
DTSTART;TZID=Europe/Paris:20260131T133000
DTEND;TZID=Europe/Paris:20260131T173000
DTSTAMP:20260422T102027
CREATED:20251230T181754Z
LAST-MODIFIED:20260115T185122Z
UID:37836-1769866200-1769880600@balltraprbt.fr
SUMMARY:Réouverture du stand 31 janvier 2026
DESCRIPTION:Réouverture du stand le  31 janvier 2026.
URL:https://balltraprbt.fr/evenement/ouverture-du-stand-31-janvier-2026/
ATTACH;FMTTYPE=image/jpeg:https://balltraprbt.fr/wp-content/uploads/2021/01/btr03-scaled-1.jpg
END:VEVENT
BEGIN:VEVENT
DTSTART;VALUE=DATE:20260110
DTEND;VALUE=DATE:20260111
DTSTAMP:20260422T102027
CREATED:20251229T153725Z
LAST-MODIFIED:20251229T153808Z
UID:37712-1768003200-1768089599@balltraprbt.fr
SUMMARY:Journée nettoyage 10 janvier 2026
DESCRIPTION:Bonjour \nOn vous attend au BTR pour la journée nettoyage \n 
URL:https://balltraprbt.fr/evenement/journee-nettoyage-10-janvier-2026/
LOCATION:Ball-trap de Rambouillet\, Route du Coupe Gorge\, Rambouillet\, Yvelines\, 78120\, France
ATTACH;FMTTYPE=image/jpeg:https://balltraprbt.fr/wp-content/uploads/2020/01/20200111_143518mise-en-avant-scaled-1.jpg
END:VEVENT
END:VCALENDAR