BEGIN:VCALENDAR
VERSION:2.0
PRODID:-//Ball-trap de Rambouillet (78) - ECPv6.15.20//NONSGML v1.0//EN
CALSCALE:GREGORIAN
METHOD:PUBLISH
X-ORIGINAL-URL:https://balltraprbt.fr
X-WR-CALDESC:Évènements pour Ball-trap de Rambouillet (78)
REFRESH-INTERVAL;VALUE=DURATION:PT1H
X-Robots-Tag:noindex
X-PUBLISHED-TTL:PT1H
BEGIN:VTIMEZONE
TZID:Europe/Paris
BEGIN:DAYLIGHT
TZOFFSETFROM:+0100
TZOFFSETTO:+0200
TZNAME:CEST
DTSTART:20250330T010000
END:DAYLIGHT
BEGIN:STANDARD
TZOFFSETFROM:+0200
TZOFFSETTO:+0100
TZNAME:CET
DTSTART:20251026T010000
END:STANDARD
BEGIN:DAYLIGHT
TZOFFSETFROM:+0100
TZOFFSETTO:+0200
TZNAME:CEST
DTSTART:20260329T010000
END:DAYLIGHT
BEGIN:STANDARD
TZOFFSETFROM:+0200
TZOFFSETTO:+0100
TZNAME:CET
DTSTART:20261025T010000
END:STANDARD
BEGIN:DAYLIGHT
TZOFFSETFROM:+0100
TZOFFSETTO:+0200
TZNAME:CEST
DTSTART:20270328T010000
END:DAYLIGHT
BEGIN:STANDARD
TZOFFSETFROM:+0200
TZOFFSETTO:+0100
TZNAME:CET
DTSTART:20271031T010000
END:STANDARD
END:VTIMEZONE
BEGIN:VEVENT
DTSTART;TZID=Europe/Paris:20260905T000000
DTEND;TZID=Europe/Paris:20260905T235959
DTSTAMP:20260420T175500
CREATED:20260408T160445Z
LAST-MODIFIED:20260408T160445Z
UID:38218-1788566400-1788652799@balltraprbt.fr
SUMMARY:Fête du club
DESCRIPTION:
URL:https://balltraprbt.fr/evenement/fete-du-club/
END:VEVENT
BEGIN:VEVENT
DTSTART;TZID=Europe/Paris:20260905T080000
DTEND;TZID=Europe/Paris:20260906T170000
DTSTAMP:20260420T175500
CREATED:20260414T170904Z
LAST-MODIFIED:20260414T170904Z
UID:38251-1788595200-1788714000@balltraprbt.fr
SUMMARY:PC Open de France de Cal. 20 et petits cal.
DESCRIPTION:Vendôme Shooting Sargé-sur-Braye\, CVL
URL:https://balltraprbt.fr/evenement/pc-open-de-france-de-cal-20-et-petits-cal/
END:VEVENT
END:VCALENDAR