BEGIN:VCALENDAR
VERSION:2.0
PRODID:-//Ball-trap de Rambouillet (78) - ECPv6.15.20//NONSGML v1.0//EN
CALSCALE:GREGORIAN
METHOD:PUBLISH
X-WR-CALNAME:Ball-trap de Rambouillet (78)
X-ORIGINAL-URL:https://balltraprbt.fr
X-WR-CALDESC:Évènements pour Ball-trap de Rambouillet (78)
REFRESH-INTERVAL;VALUE=DURATION:PT1H
X-Robots-Tag:noindex
X-PUBLISHED-TTL:PT1H
BEGIN:VTIMEZONE
TZID:Europe/Paris
BEGIN:DAYLIGHT
TZOFFSETFROM:+0100
TZOFFSETTO:+0200
TZNAME:CEST
DTSTART:20250330T010000
END:DAYLIGHT
BEGIN:STANDARD
TZOFFSETFROM:+0200
TZOFFSETTO:+0100
TZNAME:CET
DTSTART:20251026T010000
END:STANDARD
BEGIN:DAYLIGHT
TZOFFSETFROM:+0100
TZOFFSETTO:+0200
TZNAME:CEST
DTSTART:20260329T010000
END:DAYLIGHT
BEGIN:STANDARD
TZOFFSETFROM:+0200
TZOFFSETTO:+0100
TZNAME:CET
DTSTART:20261025T010000
END:STANDARD
BEGIN:DAYLIGHT
TZOFFSETFROM:+0100
TZOFFSETTO:+0200
TZNAME:CEST
DTSTART:20270328T010000
END:DAYLIGHT
BEGIN:STANDARD
TZOFFSETFROM:+0200
TZOFFSETTO:+0100
TZNAME:CET
DTSTART:20271031T010000
END:STANDARD
END:VTIMEZONE
BEGIN:VEVENT
DTSTART;TZID=Europe/Paris:20260627T090000
DTEND;TZID=Europe/Paris:20260627T120000
DTSTAMP:20260420T144951
CREATED:20260408T160044Z
LAST-MODIFIED:20260408T160100Z
UID:38213-1782550800-1782561600@balltraprbt.fr
SUMMARY:Stand réservé
DESCRIPTION:
URL:https://balltraprbt.fr/evenement/38213/
END:VEVENT
END:VCALENDAR